BEGIN:VCALENDAR
VERSION:2.0
PRODID:-//ChamberMaster//Event Calendar 2.0//EN
METHOD:PUBLISH
X-PUBLISHED-TTL:P3D
REFRESH-INTERVAL:P3D
CALSCALE:GREGORIAN
BEGIN:VEVENT
DTSTART:20171212T123000Z
DTEND:20171212T140000Z
X-MICROSOFT-CDO-ALLDAYEVENT:FALSE
SUMMARY:Ivy Tech CDL & Logistics Roundtable
DESCRIPTION:Discover and discuss program initiatives for our community's workforce
X-ALT-DESC;FMTTYPE=text/html:Discover and discuss program initiatives for our community&#39\;s workforce
LOCATION:Ivy Tech Community College - Elkhart County 22531 CO 18\, Goshen\, IN 46528 Community Center
UID:e.689.17622
SEQUENCE:3
DTSTAMP:20260424T214805Z
URL:https://business.goshen.org/events/details/ivy-tech-cdl-logistics-roundtable-17622
END:VEVENT

END:VCALENDAR
