BEGIN:VCALENDAR
VERSION:2.0
PRODID:-//ChamberMaster//Event Calendar 2.0//EN
METHOD:PUBLISH
X-PUBLISHED-TTL:P3D
REFRESH-INTERVAL:P3D
CALSCALE:GREGORIAN
BEGIN:VEVENT
DTSTART:20160922T103000Z
DTEND:20160922T123000Z
X-MICROSOFT-CDO-ALLDAYEVENT:FALSE
SUMMARY:IU Health Goshen Community Screening Day
DESCRIPTION:Get the facts. Get peace of mind. Get healthy. Free screenings/assessments: Balance and joint screening Blood pressure\, pulse and blood oxygen levels Body composition assessment Bone density heel scan Breast cancer risk assessment Colon health risk appraisal Diabetes risk assessment Diabetic foot screening Fitness assessment Memory screening Skin cancer risk screening Sleep disorders risk assessment Voice analysis Screenings with a nominal fee*: Cholesterol screening (fasting)   $20 Echocardiogram screening   $25 Vascular screening   $50 *Call 877.566.4660 to register. Must register and pre-pay by September 21 to guarantee appointment. GoshenHealth.com
X-ALT-DESC;FMTTYPE=text/html:Get the facts. Get peace of mind. Get healthy. Free screenings/assessments: Balance and joint screening Blood pressure\, pulse and blood oxygen levels Body composition assessment Bone density heel scan Breast cancer risk assessment Colon health risk appraisal Diabetes risk assessment Diabetic foot screening Fitness assessment Memory screening Skin cancer risk screening Sleep disorders risk assessment Voice analysis Screenings with a nominal fee*: Cholesterol screening (fasting) &ndash\; $20 Echocardiogram screening &ndash\; $25 Vascular screening &ndash\; $50 *Call 877.566.4660 to register. Must register and pre-pay by September 21 to guarantee appointment. GoshenHealth.com
LOCATION:IU Health Goshen Hospital 200 High Park Ave\, Goshen IN Arbor Conference Center
UID:e.689.16160
SEQUENCE:3
DTSTAMP:20260425T234927Z
URL:https://business.goshen.org/events/details/iu-health-goshen-community-screening-day-09-22-2016-16160
END:VEVENT

END:VCALENDAR
