BEGIN:VCALENDAR
VERSION:2.0
PRODID:-//ChamberMaster//Event Calendar 2.0//EN
METHOD:PUBLISH
X-PUBLISHED-TTL:P3D
REFRESH-INTERVAL:P3D
CALSCALE:GREGORIAN
BEGIN:VEVENT
DTSTART:20220126T230000Z
DTEND:20220128T010000Z
X-MICROSOFT-CDO-ALLDAYEVENT:FALSE
SUMMARY:Introduction to Linocut workshop
DESCRIPTION:Join us for an introduction to the lino-cut relief printing technique.\n\n \n\nPLEASE NOTE: This is a 4 hour workshop spread into two evenings\n\n \n\nIn this workshop\, you will learn how to use various carving tools and traditional techniques to create a unique one color lino-cut block of your own. You will also learn how to ink your carved block and try hand burnishing your design\, as well as using a tabletop Vandercook proofing press.\n\n \n\nWorkshop Suited for age 15 and up.\n\n* The sign-up cut off date is January 22nd.\n\nWorkshop Fee: $88 per person\n\n \n\nTo register for this workshop\, head over to https://www.theimaginationspot.com/.../linocut-workshop\n\nEmail us at shopimaginationspot@gmail.com for any questions.\n\n \n\nPlease note: Masks will be required for all participants.
X-ALT-DESC;FMTTYPE=text/html:<div>Join us for an introduction to the lino-cut relief printing technique.<br />\n&nbsp\;</div>\n\n<div>PLEASE NOTE: This is a 4 hour workshop spread into two evenings<br />\n&nbsp\;</div>\n\n<div>In this workshop\, you will learn how to use various carving tools and traditional techniques to create a unique one color lino-cut block of your own. You will also learn how to ink your carved block and try hand burnishing your design\, as well as using a tabletop Vandercook proofing press.<br />\n&nbsp\;</div>\n\n<div>Workshop Suited for age 15 and up.<br />\n* The sign-up cut off date is January 22nd.<br />\nWorkshop Fee: $88 per person<br />\n&nbsp\;</div>\n\n<div>To register for this workshop\, head over to <a class="oajrlxb2 g5ia77u1 qu0x051f esr5mh6w e9989ue4 r7d6kgcz rq0escxv nhd2j8a9 nc684nl6 p7hjln8o kvgmc6g5 cxmmr5t8 oygrvhab hcukyx3x jb3vyjys rz4wbd8a qt6c0cv9 a8nywdso i1ao9s8h esuyzwwr f1sip0of lzcic4wl gpro0wi8 py34i1dx" href="https://www.theimaginationspot.com/collections/workshops/products/linocut-workshop?fbclid=IwAR0-kKkeO15uZN7i8VGpVF9QoSsbErDpzs7NxwSNybq9F9upQuVwhfMF2NM" rel="nofollow noopener" tabindex="0" target="_blank">https://www.theimaginationspot.com/.../linocut-workshop</a><br />\nEmail us at shopimaginationspot@gmail.com for any questions.<br />\n&nbsp\;</div>\n\n<div>Please note: Masks will be required for all participants.</div>\n
LOCATION:The Imagination Spot\, 111 E Washington St. Goshen\, IN 46528
UID:e.689.23512
SEQUENCE:3
DTSTAMP:20260420T195353Z
URL:https://business.goshen.org/events/details/introduction-to-linocut-workshop-23512
END:VEVENT

END:VCALENDAR
