BEGIN:VCALENDAR
VERSION:2.0
PRODID:-//ChamberMaster//Event Calendar 2.0//EN
METHOD:PUBLISH
X-PUBLISHED-TTL:P3D
REFRESH-INTERVAL:P3D
CALSCALE:GREGORIAN
BEGIN:VEVENT
DTSTART:20200213T163000Z
DTEND:20200213T183000Z
X-MICROSOFT-CDO-ALLDAYEVENT:FALSE
SUMMARY:Indiana Tech\, Elkhart Campus Grand Re-Opening
DESCRIPTION:Indiana Tech's Elkhart location recently moved. Join Indiana Tech for a grand re-opening celebration that includes a ribbon-cutting (12:00PM)\, refreshments and tours. Learn more about all that Indiana Tech can offer our community. For more information\, please contact: Stephanie Kabel Enrollment Manager 574.296.7075 ext. 4420 SCKabel@indianatech.edu
X-ALT-DESC;FMTTYPE=text/html:Indiana Tech&#39\;s Elkhart location recently moved. Join Indiana Tech for a grand re-opening celebration that includes a ribbon-cutting (12:00PM)\, refreshments and tours. Learn more about all that Indiana Tech can offer our community. For more information\, please contact: Stephanie Kabel Enrollment Manager 574.296.7075 ext. 4420 SCKabel@indianatech.edu
LOCATION:881 Parkway Avenue Suite 100 Elkhart\, IN 46516
UID:e.689.20634
SEQUENCE:3
DTSTAMP:20260422T224220Z
URL:https://business.goshen.org/events/details/indiana-tech-elkhart-campus-grand-re-opening-20634
END:VEVENT

END:VCALENDAR
