BEGIN:VCALENDAR
VERSION:2.0
PRODID:-//ChamberMaster//Event Calendar 2.0//EN
METHOD:PUBLISH
X-PUBLISHED-TTL:P3D
REFRESH-INTERVAL:P3D
CALSCALE:GREGORIAN
BEGIN:VEVENT
DTSTART:20170323T203000Z
DTEND:20170323T223000Z
X-MICROSOFT-CDO-ALLDAYEVENT:FALSE
SUMMARY:Indiana Big Sister of the Year Celebration
DESCRIPTION:You're invited to an open house hosted by Big Brothers Big Sisters to congratulate Sam\, Elkhart County and Indiana Big Sister of the Year. Enjoy appetizers and learn more about the Big Brothers Big Sisters programs.
X-ALT-DESC;FMTTYPE=text/html:You&#39\;re invited to an open house hosted by Big Brothers Big Sisters to congratulate Sam\, Elkhart County and Indiana Big Sister of the Year. Enjoy appetizers and learn more about the Big Brothers Big Sisters programs.
LOCATION:Lucchese's Italian Restaurant
UID:e.689.16714
SEQUENCE:3
DTSTAMP:20260425T122917Z
URL:https://business.goshen.org/events/details/indiana-big-sister-of-the-year-celebration-16714
END:VEVENT

END:VCALENDAR
