BEGIN:VCALENDAR
VERSION:2.0
PRODID:-//ChamberMaster//Event Calendar 2.0//EN
METHOD:PUBLISH
X-PUBLISHED-TTL:P3D
REFRESH-INTERVAL:P3D
CALSCALE:GREGORIAN
BEGIN:VEVENT
DTSTART:20161020T233000Z
DTEND:20161021T020000Z
X-MICROSOFT-CDO-ALLDAYEVENT:FALSE
SUMMARY:Ignition Music Garage - The Main Squeeze
DESCRIPTION:Go to www.ignitionmusic.net for more information
X-ALT-DESC;FMTTYPE=text/html:Go to <a href="http://www.ignitionmusic.net"><font color="#0066cc">www.ignitionmusic.net</font></a> for more information
LOCATION:
UID:e.689.16252
SEQUENCE:3
DTSTAMP:20260425T202618Z
URL:https://business.goshen.org/events/details/ignition-music-garage-the-main-squeeze-16252
END:VEVENT

END:VCALENDAR
