BEGIN:VCALENDAR
VERSION:2.0
PRODID:-//ChamberMaster//Event Calendar 2.0//EN
METHOD:PUBLISH
X-PUBLISHED-TTL:P3D
REFRESH-INTERVAL:P3D
CALSCALE:GREGORIAN
BEGIN:VEVENT
DTSTART:20161008T233000Z
DTEND:20161009T020000Z
X-MICROSOFT-CDO-ALLDAYEVENT:FALSE
SUMMARY:Ignition Music Garage - Hoots and Hellmouth
DESCRIPTION:Go to www.ignitionmusic.net for more information
X-ALT-DESC;FMTTYPE=text/html:Go to <a href="http://www.ignitionmusic.net"><font color="#0066cc">www.ignitionmusic.net</font></a> for more information
LOCATION:
UID:e.689.16250
SEQUENCE:3
DTSTAMP:20260425T203537Z
URL:https://business.goshen.org/events/details/ignition-music-garage-hoots-and-hellmouth-16250
END:VEVENT

END:VCALENDAR
