BEGIN:VCALENDAR
VERSION:2.0
PRODID:-//ChamberMaster//Event Calendar 2.0//EN
METHOD:PUBLISH
X-PUBLISHED-TTL:P3D
REFRESH-INTERVAL:P3D
CALSCALE:GREGORIAN
BEGIN:VEVENT
DTSTART:20160702T120000Z
DTEND:20160702T160000Z
X-MICROSOFT-CDO-ALLDAYEVENT:FALSE
SUMMARY:"I Try Scuba" Class
DESCRIPTION:Ever wonder what it?s like to take a breath underwater? Or what it?s like to be a fish? Find out at Shanklin Pool on Saturday\, May 21 and July 2 from 8?10 am. Join dive instructor Greg Stone and other master divers who will be on hand to let you experience the underwater world. All equipment will be provided. Bring your swimsuit and towel and be ready to get wet. This introduction to scuba (which stands for selfcontained underwater breathing apparatus) is just $5 per day! Pre-registration is required at the Goshen Parks & Recreation Office by Wednesday\, May 18 and June 29. For ages 10 to adult.
X-ALT-DESC;FMTTYPE=text/html:Ever wonder what it?s like to take a breath underwater? Or what it?s like to be a fish? Find out at Shanklin Pool on Saturday\, May 21 and July 2 from 8?10 am. Join dive instructor Greg Stone and other master divers who will be on hand to let you experience the underwater world. All equipment will be provided. Bring your swimsuit and towel and be ready to get wet. This introduction to scuba (which stands for selfcontained underwater breathing apparatus) is just $5 per day! Pre-registration is required at the Goshen Parks &amp\; Recreation Office by Wednesday\, May 18 and June 29. For ages 10 to adult.
LOCATION:Shanklin Pool
UID:e.689.15844
SEQUENCE:3
DTSTAMP:20260426T004354Z
URL:https://business.goshen.org/events/details/i-try-scuba-class-07-02-2016-15844
END:VEVENT

END:VCALENDAR
