BEGIN:VCALENDAR
VERSION:2.0
PRODID:-//ChamberMaster//Event Calendar 2.0//EN
METHOD:PUBLISH
X-PUBLISHED-TTL:P3D
REFRESH-INTERVAL:P3D
CALSCALE:GREGORIAN
BEGIN:VEVENT
DTSTART:20160604T150000Z
DTEND:20160604T180000Z
X-MICROSOFT-CDO-ALLDAYEVENT:FALSE
SUMMARY:"I Try Sailing!"
DESCRIPTION:This nautical program is a free introductory sailing clinic for youth ages 8?15. Come see what it takes to sail and discover a new found interest! The clinic will meet at Fidler Pond Park\, 1424 Lincolnway East\, Saturday\, June 4 and Saturday\, June 11\, 11 am?2 pm. Students must be able to swim. Equipment and materials provided. This is a great introductory session to our Sailing Camp offered June 20?24. Also\, check out our booth at June?s First Friday!
X-ALT-DESC;FMTTYPE=text/html:This nautical program is a free introductory sailing clinic for youth ages 8?15. Come see what it takes to sail and discover a new found interest! The clinic will meet at Fidler Pond Park\, 1424 Lincolnway East\, Saturday\, June 4 and Saturday\, June 11\, 11 am?2 pm. Students must be able to swim. Equipment and materials provided. This is a great introductory session to our Sailing Camp offered June 20?24. Also\, check out our booth at June?s First Friday!
LOCATION:Fidler Pond Park
UID:e.689.15897
SEQUENCE:3
DTSTAMP:20260426T021736Z
URL:https://business.goshen.org/events/details/i-try-sailing-06-04-2016-15897
END:VEVENT

END:VCALENDAR
