BEGIN:VCALENDAR
VERSION:2.0
PRODID:-//ChamberMaster//Event Calendar 2.0//EN
METHOD:PUBLISH
X-PUBLISHED-TTL:P3D
REFRESH-INTERVAL:P3D
CALSCALE:GREGORIAN
BEGIN:VEVENT
DTSTART:20161001T160000Z
DTEND:20161001T183000Z
X-MICROSOFT-CDO-ALLDAYEVENT:FALSE
SUMMARY:I Dig Dinosaurs! For ages 6 and older
DESCRIPTION:During these "digs" the junior paleontologists will experience the wonder of excavating fossils\, piecing them together and learning about the mysteries of our living past. Program fee includes skeleton\, hammer\, chisel\, factsheet and t-shirt! Each dig has different subjects\, so enjoy both programs with all new materials. Program meets on Saturdays\, 12 noon- 2:30 pm\, at the Rieth Interpretive Center\, 410 West Plymouth Avenue. For ages 6+. Cost is $35 per program. September 17: Flying Monsters! Tropeognathus\, Pteranodon and Dsungaripterus. October 1: Dino Flintstone- Brontosaurus or Apatosaurus? Pre-register now at the Parks Office\, 607 W. Plymouth Ave. (574) 534-2901
X-ALT-DESC;FMTTYPE=text/html:During these &ldquo\;digs&rdquo\; the junior paleontologists will experience the wonder of excavating fossils\, piecing them together and learning about the mysteries of our living past. Program fee includes skeleton\, hammer\, chisel\, factsheet and t-shirt! Each dig has different subjects\, so enjoy both programs with all new materials. Program meets on Saturdays\, 12 noon- 2:30 pm\, at the Rieth Interpretive Center\, 410 West Plymouth Avenue. For ages 6+. Cost is $35 per program. September 17: Flying Monsters! Tropeognathus\, Pteranodon and Dsungaripterus. October 1: Dino Flintstone- Brontosaurus or Apatosaurus? Pre-register now at the Parks Office\, 607 W. Plymouth Ave. (574) 534-2901
LOCATION:Rieth Interpretive Center
UID:e.689.16181
SEQUENCE:3
DTSTAMP:20260425T202732Z
URL:https://business.goshen.org/events/details/i-dig-dinosaurs-for-ages-6-and-older-16181
END:VEVENT

END:VCALENDAR
