BEGIN:VCALENDAR
VERSION:2.0
PRODID:-//ChamberMaster//Event Calendar 2.0//EN
METHOD:PUBLISH
X-PUBLISHED-TTL:P3D
REFRESH-INTERVAL:P3D
CALSCALE:GREGORIAN
BEGIN:VEVENT
DTSTART:20170527T130000Z
DTEND:20170527T160000Z
X-MICROSOFT-CDO-ALLDAYEVENT:FALSE
SUMMARY:I Dig Dinosaurs
DESCRIPTION:During these "digs" the junior paleontologists will experience the wonder of excavating fossils\, piecing them together and learning about the mysteries of our living past. Program registration includes skeleton\, hammer\, chisel\, fact sheet and t-shirt! Each dig has different subjects\, so enjoy the programs with all new materials and learn the similarities and differences between the featured creatures each session. Program meets on Saturdays\, 9 am 12 noon\, at Rieth Interpretive Center\, 410 West Plymouth Avenue. For ages 6+. Cost is $35 per program. Pre-register at the Goshen Park Office. May 27: Flying Monsters! Tropeognathus\, Pteranodon and Dsungaripterus June 3: Velociraptor vs. Tyrannosaurus Rex June 17: Dino Flintstone: Brontosaurus or Apatosaurus? June 24: Mystery Dinosaur!
X-ALT-DESC;FMTTYPE=text/html:During these &ldquo\;digs&rdquo\; the junior paleontologists will experience the wonder of excavating fossils\, piecing them together and learning about the mysteries of our living past. Program registration includes skeleton\, hammer\, chisel\, fact sheet and t-shirt! Each dig has different subjects\, so enjoy the programs with all new materials and learn the similarities and differences between the featured creatures each session. Program meets on Saturdays\, 9 am&ndash\;12 noon\, at Rieth Interpretive Center\, 410 West Plymouth Avenue. For ages 6+. Cost is $35 per program. Pre-register at the Goshen Park Office. May 27: Flying Monsters! Tropeognathus\, Pteranodon and Dsungaripterus June 3: Velociraptor vs. Tyrannosaurus Rex June 17: Dino Flintstone: Brontosaurus or Apatosaurus? June 24: Mystery Dinosaur!
LOCATION:
UID:e.689.16642
SEQUENCE:3
DTSTAMP:20260425T103806Z
URL:https://business.goshen.org/events/details/i-dig-dinosaurs-16642
END:VEVENT

END:VCALENDAR
