BEGIN:VCALENDAR
VERSION:2.0
PRODID:-//ChamberMaster//Event Calendar 2.0//EN
METHOD:PUBLISH
X-PUBLISHED-TTL:P3D
REFRESH-INTERVAL:P3D
CALSCALE:GREGORIAN
BEGIN:VEVENT
DTSTART:20160521T130000Z
DTEND:20160521T160000Z
X-MICROSOFT-CDO-ALLDAYEVENT:FALSE
SUMMARY:I Dig Dinosaurs!
DESCRIPTION:The Parks Office is now accepting registrations for dinosaur digs! During these ?digs? the junior paleontologists will experience the wonder of excavating fossils\, piecing them together and learning about the mysteries of our living past. Program registration includes skeleton\, hammer\, chisel\, factsheet/poster and T-shirt! Each dig has different subjects\, so enjoy both programs with all new materials and learn the similarities and differences between the two featured creatures each session. Program meets on Saturdays\, 9 am?12 noon\, at Rieth Interpretive Center\, 410 West Plymouth Avenue. For ages 6+. Cost is $35 per program. May 7: Wooly Mammoth May 21: Triceratops and Tyrannosaurus Rex June 11: Velociraptor and Brachiosaurus June 25: Megalodon
X-ALT-DESC;FMTTYPE=text/html:The Parks Office is now accepting registrations for dinosaur digs! During these ?digs? the junior paleontologists will experience the wonder of excavating fossils\, piecing them together and learning about the mysteries of our living past. Program registration includes skeleton\, hammer\, chisel\, factsheet/poster and T-shirt! Each dig has different subjects\, so enjoy both programs with all new materials and learn the similarities and differences between the two featured creatures each session. Program meets on Saturdays\, 9 am?12 noon\, at Rieth Interpretive Center\, 410 West Plymouth Avenue. For ages 6+. Cost is $35 per program. May 7: Wooly Mammoth May 21: Triceratops and Tyrannosaurus Rex June 11: Velociraptor and Brachiosaurus June 25: Megalodon
LOCATION:
UID:e.689.15838
SEQUENCE:3
DTSTAMP:20260426T035415Z
URL:https://business.goshen.org/events/details/i-dig-dinosaurs-05-21-2016-15838
END:VEVENT

END:VCALENDAR
