BEGIN:VCALENDAR
VERSION:2.0
PRODID:-//ChamberMaster//Event Calendar 2.0//EN
METHOD:PUBLISH
X-PUBLISHED-TTL:P3D
REFRESH-INTERVAL:P3D
CALSCALE:GREGORIAN
BEGIN:VEVENT
DTSTART:20200416T160000Z
DTEND:20200416T170000Z
X-MICROSOFT-CDO-ALLDAYEVENT:FALSE
SUMMARY:HR Network - Recruiting and Staffing in Challenging Times
DESCRIPTION:Join the HR Network of the Goshen Chamber for this informative luncheon virtual meeting.   Pete Owsianowski and Mike Niedbalski from Integritas Search will be the presenters talking about Recruiting and Staffing in Challenging Times
X-ALT-DESC;FMTTYPE=text/html:<p><span style="font-size:12.0pt\;color:black">Join the HR Network of the Goshen Chamber for this informative luncheon virtual meeting.&nbsp\; &#8203\;Pete Owsianowski and Mike Niedbalski from Integritas Search will be the presenters talking about Recruiting and Staffing in Challenging Times<o:p></o:p></span></p>\n
LOCATION:At the comfort of your computer :)
UID:e.689.20933
SEQUENCE:3
DTSTAMP:20260422T204245Z
URL:https://business.goshen.org/events/details/hr-network-recruiting-and-staffing-in-challenging-times-20933
END:VEVENT

END:VCALENDAR
