BEGIN:VCALENDAR
VERSION:2.0
PRODID:-//ChamberMaster//Event Calendar 2.0//EN
METHOD:PUBLISH
X-PUBLISHED-TTL:P3D
REFRESH-INTERVAL:P3D
CALSCALE:GREGORIAN
BEGIN:VEVENT
DTSTART:20200820T160000Z
DTEND:20200820T170000Z
X-MICROSOFT-CDO-ALLDAYEVENT:FALSE
SUMMARY:HR Network - Employer Training Reimbursement 4.0 Grant
DESCRIPTION:About the Employer Training Reimbursement 4.0 Grant:\n\nEmployers in any high demand business sector can be reimbursed up to $5\,000 for each newly trained current or new employee.  There is a $100\,000 cap for each employer and the jobs must be middle skill\, high-demand and high-wage jobs.\n\n \n\nThe Employer Training Grants cover occupational skills training.  Employers can use training providers on DWD's eligible training provider list or third party providers. The training plan must verify that it is occupational skills training\, aligns to an approved middle skills occupation and is greater than 40 hours.
X-ALT-DESC;FMTTYPE=text/html:<strong><span style="font-family:arial\,sans-serif\;"><span style="font-size:12.0pt\;">About the Employer Training Reimbursement 4.0 Grant:</span></span></strong><br />\n<span style="font-family:arial\,sans-serif\;"><span style="font-size:12.0pt\;">Employers in any high demand business sector can be reimbursed up to $5\,000 for each newly trained current or new employee.&nbsp\; There is a $100\,000 cap for each employer and the jobs must be middle skill\, high-demand and high-wage jobs.</span></span><br />\n&nbsp\;<br />\n<span style="font-family:arial\,sans-serif\;"><span style="font-size:12.0pt\;">The Employer Training Grants cover occupational skills training.&nbsp\; Employers can use training providers on DWD&rsquo\;s eligible training provider list or third party providers. The training plan must verify that it is occupational skills training\, aligns to an approved middle skills occupation and is greater than 40 hours.</span></span>
LOCATION:Virtual
UID:e.689.20988
SEQUENCE:3
DTSTAMP:20260422T115834Z
URL:https://business.goshen.org/events/details/hr-network-employer-training-reimbursement-4-0-grant-20988
END:VEVENT

END:VCALENDAR
