BEGIN:VCALENDAR
VERSION:2.0
PRODID:-//ChamberMaster//Event Calendar 2.0//EN
METHOD:PUBLISH
X-PUBLISHED-TTL:P3D
REFRESH-INTERVAL:P3D
CALSCALE:GREGORIAN
BEGIN:VEVENT
DTSTART:20200514T160000Z
DTEND:20200514T170000Z
X-MICROSOFT-CDO-ALLDAYEVENT:FALSE
SUMMARY:HR Network - Building Up: Help Your Employees Create a Positive Mindset for Returning to Work
DESCRIPTION:As we start this process of reopening the economy and for many bringing back employees into the workplace\, many questions and concerns remain.  Employee moral is an essential part to creating a work environment for everyone to thrive and be productive.\n\n\n\nBonita Schrock\, Chief Clinical Officer with Oaklawn\, will lead this session titled "Building Up: Help Your Employees Create a Positive Mindset for Returning to Work" will take a deep dive into workplace moral in the new normal.\n\n\n\nThis program is brought to you by the HR Network of the Goshen Chamber and is free for anyone to attend.
X-ALT-DESC;FMTTYPE=text/html:As we start this process of reopening the economy and for many bringing back employees into the workplace\, many questions and concerns remain.&nbsp\; Employee moral is an essential part to creating a work environment for everyone to thrive and be productive.<br />\n<br />\nBonita Schrock\, Chief Clinical Officer with Oaklawn\, will lead this session titled &quot\;Building Up: Help Your Employees Create a Positive Mindset for Returning to Work&quot\; will take a deep dive into workplace moral in the new normal.<br />\n<br />\nThis program is brought to you by the HR Network of the Goshen Chamber and is free for anyone to attend.
LOCATION:When you register\, a zoom meeting link will be emailed to you the day before the event
UID:e.689.20957
SEQUENCE:3
DTSTAMP:20260422T190755Z
URL:https://business.goshen.org/events/details/hr-network-building-up-help-your-employees-create-a-positive-mindset-for-returning-to-work-20957
END:VEVENT

END:VCALENDAR
