BEGIN:VCALENDAR
VERSION:2.0
PRODID:-//ChamberMaster//Event Calendar 2.0//EN
METHOD:PUBLISH
X-PUBLISHED-TTL:P3D
REFRESH-INTERVAL:P3D
CALSCALE:GREGORIAN
BEGIN:VEVENT
DTSTART:20181213T170000Z
DTEND:20181213T180000Z
X-MICROSOFT-CDO-ALLDAYEVENT:FALSE
SUMMARY:HR Network
DESCRIPTION:Mental Health in the Work Place \n\nAmy Rosen\, MA MSA LMHC LCAC\n\nVice President of Medical Services & Access @ Oaklawn will be our guest speaker\n\n\n\n\n\nThe increase in anxiety all of us are feeling especially in the work place\n\nWhat is trauma and how does it affect us-red flags to be watchful of \n\nTrauma-informed responses & suggestions of how to best reach out to others
X-ALT-DESC;FMTTYPE=text/html:<div style="text-align: center\;"><span style="font-size:20px\;"><span style="font-family:calibri\,sans-serif\;">Mental Health in the Work Place&nbsp\;<br />\nAmy Rosen\, MA MSA LMHC LCAC<br />\nVice President of Medical Services &amp\; Access @ Oaklawn will be our guest speaker</span></span><br />\n<br />\n<br />\n<span style="font-size:14.0pt\;">The increase in anxiety all of us are feeling especially in the work place</span><br />\n<span style="font-size:14.0pt\;">What is trauma and how does it affect us-red flags to be watchful of </span><br />\n<span style="font-size:14.0pt\;">Trauma-informed responses &amp\; suggestions of how to best reach out to others </span><br />\n&nbsp\;<br />\n<br />\n&nbsp\;</div>\n
LOCATION:Goshen Chamber of Commerce 232 S. Main Street Goshen\, IN 46526
UID:e.689.18510
SEQUENCE:3
DTSTAMP:20260423T230258Z
URL:https://business.goshen.org/events/details/hr-network-18510
END:VEVENT

END:VCALENDAR
