BEGIN:VCALENDAR
VERSION:2.0
PRODID:-//ChamberMaster//Event Calendar 2.0//EN
METHOD:PUBLISH
X-PUBLISHED-TTL:P3D
REFRESH-INTERVAL:P3D
CALSCALE:GREGORIAN
BEGIN:VEVENT
DTSTART:20180925T193000Z
DTEND:20180925T210000Z
X-MICROSOFT-CDO-ALLDAYEVENT:FALSE
SUMMARY:How To Deal With The Impacts of Wayfair
DESCRIPTION:On June 21\, 2018\, the Supreme Court of the United States issued its widely anticipated decision in South Dakota v. Wayfair\, et al. No. 17-494. In a 5-4 decision\, the Court held that the physical presence rule for state tax jurisdiction is incorrect and not a requirement under the Commerce Clause of the U.S. Constitution. Overnight\, remote sellers\, online marketplaces\, service providers\, licensors of software\, and other businesses that have provided services to or delivered their products to customers from a remote location will have to start complying with state and local sales and use taxes.\n\n\n\nJoin us in our South Bend office for a group viewing of a webinar where BDO USA tax experts will discuss how the new nexus rules established by South Dakota's law may affect your company. More information here.
X-ALT-DESC;FMTTYPE=text/html:<span style="color:rgb(68\, 68\, 68)\; font-family:source sans pro\,arial\,helvetica\,sans-serif\; font-size:14px">On June 21\, 2018\, the Supreme Court of the United States issued its widely anticipated decision in South Dakota v. Wayfair\, et al. No. 17-494. In a 5-4 decision\, the Court held that the physical presence rule for state tax jurisdiction is incorrect and not a requirement under the Commerce Clause of the U.S. Constitution. Overnight\, remote sellers\, online marketplaces\, service providers\, licensors of software\, and other businesses that have provided services to or delivered their products to customers from a remote location will have to start complying with state and local sales and use taxes.<br />\n<br />\nJoin us in our South Bend office for a group viewing of a webinar where BDO USA tax experts will discuss how the new nexus rules established by South Dakota&#39\;s law may affect your company. <a href="https://www.klcpas.com/event/how-to-deal-with-the-impacts-of-wayfair/" target="_blank">More information here.</a></span>
LOCATION:Kruggel Lawton CPA Firm 210 S Michigan Street Suite 200 South Bend\, IN 46601
UID:e.689.18228
SEQUENCE:3
DTSTAMP:20260424T045605Z
URL:https://business.goshen.org/events/details/how-to-deal-with-the-impacts-of-wayfair-18228
END:VEVENT

END:VCALENDAR
