BEGIN:VCALENDAR
VERSION:2.0
PRODID:-//ChamberMaster//Event Calendar 2.0//EN
METHOD:PUBLISH
X-PUBLISHED-TTL:P3D
REFRESH-INTERVAL:P3D
CALSCALE:GREGORIAN
BEGIN:VEVENT
DTSTART:20200212T183000Z
DTEND:20200212T193000Z
X-MICROSOFT-CDO-ALLDAYEVENT:FALSE
SUMMARY:Horizon. Education. Alliance. Three words to transform Elkhart County
DESCRIPTION:Horizon Education Alliance (HEA) was founded in 2012 to build on an idea that had been percolating in Elkhart County for many years: working together\, the business community and the education community could help make this a world-class place to learn\, live\, work\, and play. As the founding President & CEO\, Brian Wiebe has been in the center of that work for the last 7+ years\, fostering partnerships that have led to collaboration and innovation in the educational space\, from early childhood\, through K-12 and higher education\, and into adult lifelong learning. Presenter: Brian Wiebe
X-ALT-DESC;FMTTYPE=text/html:Horizon Education Alliance (HEA) was founded in 2012 to build on an idea that had been percolating in Elkhart County for many years: working together\, the business community and the education community could help make this a world-class place to learn\, live\, work\, and play. As the founding President &amp\; CEO\, Brian Wiebe has been in the center of that work for the last 7+ years\, fostering partnerships that have led to collaboration and innovation in the educational space\, from early childhood\, through K-12 and higher education\, and into adult lifelong learning. Presenter: Brian Wiebe
LOCATION:Greencroft Goshen Community Center
UID:e.689.20614
SEQUENCE:3
DTSTAMP:20260422T224220Z
URL:https://business.goshen.org/events/details/horizon-education-alliance-three-words-to-transform-elkhart-county-20614
END:VEVENT

END:VCALENDAR
