BEGIN:VCALENDAR
VERSION:2.0
PRODID:-//ChamberMaster//Event Calendar 2.0//EN
METHOD:PUBLISH
X-PUBLISHED-TTL:P3D
REFRESH-INTERVAL:P3D
CALSCALE:GREGORIAN
BEGIN:VEVENT
DTSTART:20170224T210000Z
DTEND:20170226T220000Z
X-MICROSOFT-CDO-ALLDAYEVENT:FALSE
SUMMARY:Home & Outdoor Expo
DESCRIPTION:The Builders Association of Elkhart County presents its 43rd annual Home & Outdoor Expo at the Northern Indiana Event Center. FREE admission\, FREE parking\, FREE educational seminars and FREE hot cocoa all weekend! Come visit a wide array of vendors that can help you achieve the dream you have for your home! Friday night is "Date Night" with a quieter atmosphere and special food and wine choices available from 4 pm to 8 pm. Saturday hours are 10 am to 8 pm\, and Sunday hours are Noon to 5 pm. Our Premiere sponsor this year is Friends & Neighbors Real Estate.
X-ALT-DESC;FMTTYPE=text/html:The Builders Association of Elkhart County presents its 43rd annual Home &amp\; Outdoor Expo at the Northern Indiana Event Center. FREE admission\, FREE parking\, FREE educational seminars and FREE hot cocoa all weekend! Come visit a wide array of vendors that can help you achieve the dream you have for your home! Friday night is &quot\;Date Night&quot\; with a quieter atmosphere and special food and wine choices available from 4 pm to 8 pm. Saturday hours are 10 am to 8 pm\, and Sunday hours are Noon to 5 pm. Our Premiere sponsor this year is Friends &amp\; Neighbors Real Estate.
LOCATION:Northern Indiana Event Center is located on the corner of County Road 17 and County Road 6 in Elkhart.
UID:e.689.16634
SEQUENCE:3
DTSTAMP:20260425T140852Z
URL:https://business.goshen.org/events/details/home-outdoor-expo-16634
END:VEVENT

END:VCALENDAR
