BEGIN:VCALENDAR
VERSION:2.0
PRODID:-//ChamberMaster//Event Calendar 2.0//EN
METHOD:PUBLISH
X-PUBLISHED-TTL:P3D
REFRESH-INTERVAL:P3D
CALSCALE:GREGORIAN
BEGIN:VEVENT
DTSTART:20170920T120000Z
DTEND:20170921T203000Z
X-MICROSOFT-CDO-ALLDAYEVENT:FALSE
SUMMARY:Home Care & Hospice Volunteer Training
DESCRIPTION:Goshen Home Care and Hospice is seeking volunteers to provide comfort\, support and companionship to hospice patients and their families in Elkhart\, LaGrange\, Noble and Kosciusko counties. Anyone 18 years and older may apply. Male volunteers are especially needed. As Goshen Home Care and Hospice is a "We Honor Veterans" service\, veterans are sought who might be willing to help or listen to other veterans. Volunteers are required to take 16 hours of training\, which occurs over the course of two days. Training sessions will run from 8:00 am to 4:30 pm on Wednesday\, September 20 and Thursday\, September 21 on then second floor of the High Park Building\, 200 High Park Avenue\, Goshen\, IN. A box lunch will be provided. During training hospice volunteers will learn about the following:   Hospice philosophy   Communication skills   Emotional\, spiritual and physical aspects of dying   Family dynamics   Grief
X-ALT-DESC;FMTTYPE=text/html:Goshen Home Care and Hospice is seeking volunteers to provide comfort\, support and companionship to hospice patients and their families in Elkhart\, LaGrange\, Noble and Kosciusko counties. Anyone 18 years and older may apply. Male volunteers are especially needed. As Goshen Home Care and Hospice is a &ldquo\;We Honor Veterans&rdquo\; service\, veterans are sought who might be willing to help or listen to other veterans. Volunteers are required to take 16 hours of training\, which occurs over the course of two days. Training sessions will run from 8:00 am to 4:30 pm on Wednesday\, September 20 and Thursday\, September 21 on then second floor of the High Park Building\, 200 High Park Avenue\, Goshen\, IN. A box lunch will be provided. During training hospice volunteers will learn about the following: &bull\; Hospice philosophy &bull\; Communication skills &bull\; Emotional\, spiritual and physical aspects of dying &bull\; Family dynamics &bull\; Grief
LOCATION:second floor of the High Park Building\, 200 High Park Avenue\, Goshen\, IN 46526
UID:e.689.16982
SEQUENCE:3
DTSTAMP:20260425T041121Z
URL:https://business.goshen.org/events/details/home-care-hospice-volunteer-training-16982
END:VEVENT

END:VCALENDAR
