BEGIN:VCALENDAR
VERSION:2.0
PRODID:-//ChamberMaster//Event Calendar 2.0//EN
METHOD:PUBLISH
X-PUBLISHED-TTL:P3D
REFRESH-INTERVAL:P3D
CALSCALE:GREGORIAN
BEGIN:VEVENT
DTSTART:20180210T140000Z
DTEND:20180210T160000Z
X-MICROSOFT-CDO-ALLDAYEVENT:FALSE
SUMMARY:Health Screening Event
DESCRIPTION:Health screenings can give you important information. They can also identify an illness or serious health condition that may need medical care. Our healthcare professionals will answer your questions and make simple recommendations for a healthier lifestyle. Screenings available:   *Cholesterol screening (fasting) - $20   Blood pressure   Pulse and blood oxygen level
X-ALT-DESC;FMTTYPE=text/html:Health screenings can give you important information. They can also identify an illness or serious health condition that may need medical care. Our healthcare professionals will answer your questions and make simple recommendations for a healthier lifestyle. Screenings available: &bull\; *Cholesterol screening (fasting) - $20 &bull\; Blood pressure &bull\; Pulse and blood oxygen level
LOCATION:Nappanee Public Library 157 N. Main Street Nappanee\, IN
UID:e.689.17670
SEQUENCE:3
DTSTAMP:20260424T184513Z
URL:https://business.goshen.org/events/details/health-screening-event-17670
END:VEVENT

END:VCALENDAR
