BEGIN:VCALENDAR
VERSION:2.0
PRODID:-//ChamberMaster//Event Calendar 2.0//EN
METHOD:PUBLISH
X-PUBLISHED-TTL:P3D
REFRESH-INTERVAL:P3D
CALSCALE:GREGORIAN
BEGIN:VEVENT
DTSTART:20170428T200000Z
DTEND:20170429T003000Z
X-MICROSOFT-CDO-ALLDAYEVENT:FALSE
SUMMARY:HEAD-TO-TOE HEALTH EXPERIENCE
DESCRIPTION:Goshen Health is proud to offer a FREE event featuring tours of the Inflatable MEGA Body and MEGA Lungs with health experts on site to answer questions. These interactive and unique exhibits allow visitors to step inside the human body and learn about the different structures and bodily functions. Free screenings and assessments\, first come first served:   Blood pressure\, pulse and blood oxygen levels   Body composition analysis   Bone density heel scan   Carbon monoxide check   Children's height and weight check   Diabetes risk assessment (adult and child)   Diabetic neuropathy foot screening   Echocardiogram screening   Fitness endurance test   Grip strength testing   Malnutrition screening   Skin cancer risk screening   Sleep apnea screening   Vascular leg screenings for arterial disease
X-ALT-DESC;FMTTYPE=text/html:Goshen Health is proud to offer a FREE event featuring tours of the Inflatable MEGA Body and MEGA Lungs with health experts on site to answer questions. These interactive and unique exhibits allow visitors to step inside the human body and learn about the different structures and bodily functions. Free screenings and assessments\, first come first served: &bull\; Blood pressure\, pulse and blood oxygen levels &bull\; Body composition analysis &bull\; Bone density heel scan &bull\; Carbon monoxide check &bull\; Children&rsquo\;s height and weight check &bull\; Diabetes risk assessment (adult and child) &bull\; Diabetic neuropathy foot screening &bull\; Echocardiogram screening &bull\; Fitness endurance test &bull\; Grip strength testing &bull\; Malnutrition screening &bull\; Skin cancer risk screening &bull\; Sleep apnea screening &bull\; Vascular leg screenings for arterial disease
LOCATION:Elkhart County 4-H Fairgrounds\, Exhibit Building F 17746-D C.R. 34\, Goshen\, IN 46528 Gate #2 for parking
UID:e.689.16725
SEQUENCE:3
DTSTAMP:20260425T104147Z
URL:https://business.goshen.org/events/details/head-to-toe-health-experience-16725
END:VEVENT

END:VCALENDAR
