BEGIN:VCALENDAR
VERSION:2.0
PRODID:-//ChamberMaster//Event Calendar 2.0//EN
METHOD:PUBLISH
X-PUBLISHED-TTL:P3D
REFRESH-INTERVAL:P3D
CALSCALE:GREGORIAN
BEGIN:VEVENT
DTSTART:20161105T120000Z
DTEND:20161105T180000Z
X-MICROSOFT-CDO-ALLDAYEVENT:FALSE
SUMMARY:Harvest & Holdiay Bazaar
DESCRIPTION:Calvary UMC is having its annual Bazaar and Amish Cookie sale. There will be crafters\, direct sales vendors\, breakfast and lunch will be available for purchase as well. Any questions please call the church office Monday-Friday from 9:00 a.m. -0 1:00 p.m. or email the church at office@elkhartcalvaryumc.org.
X-ALT-DESC;FMTTYPE=text/html:Calvary UMC is having its annual Bazaar and Amish Cookie sale. There will be crafters\, direct sales vendors\, breakfast and lunch will be available for purchase as well. Any questions please call the church office Monday-Friday from 9:00 a.m. -0 1:00 p.m. or email the church at office@elkhartcalvaryumc.org.
LOCATION:Elkhart Calvary United Methodist Church 2222 West Indiana Ave. Elkhart\, IN 46516
UID:e.689.16258
SEQUENCE:3
DTSTAMP:20260425T190023Z
URL:https://business.goshen.org/events/details/harvest-holdiay-bazaar-16258
END:VEVENT

END:VCALENDAR
