BEGIN:VCALENDAR
VERSION:2.0
PRODID:-//ChamberMaster//Event Calendar 2.0//EN
METHOD:PUBLISH
X-PUBLISHED-TTL:P3D
REFRESH-INTERVAL:P3D
CALSCALE:GREGORIAN
BEGIN:VEVENT
DTSTART:20211001T210000Z
DTEND:20211002T010000Z
X-MICROSOFT-CDO-ALLDAYEVENT:FALSE
SUMMARY:Harvest Festival
DESCRIPTION:Find fall among friends at Harvest Fest in downtown Goshen on Friday\, October 1. The season's favorite flavors and festivities will be in one place from 5 to 9 p.m. during October First Fridays -- fire pits\, pumpkin decorating and fall-themed food and drinks. Children's activities include a petting zoo and pony rides\, with First Fridays' live music\, shopping specials and beer and wine offerings all falling at the start of Goshen College Homecoming weekend for even more friends and fun!
X-ALT-DESC;FMTTYPE=text/html:Find fall among friends at Harvest Fest in downtown Goshen on Friday\, October 1. The season&#39\;s favorite flavors and festivities will be in one place from 5 to 9 p.m. during October First Fridays -- fire pits\, pumpkin decorating and fall-themed food and drinks. Children&#39\;s activities include a petting zoo and pony rides\, with First Fridays&#39\; live music\, shopping specials and beer and wine offerings all falling at the start of Goshen College Homecoming weekend for even more friends and fun!
LOCATION:Downtown Goshen
UID:e.689.22662
SEQUENCE:3
DTSTAMP:20260421T114014Z
URL:https://business.goshen.org/events/details/harvest-festival-22662
END:VEVENT

END:VCALENDAR
