BEGIN:VCALENDAR
VERSION:2.0
PRODID:-//ChamberMaster//Event Calendar 2.0//EN
METHOD:PUBLISH
X-PUBLISHED-TTL:P3D
REFRESH-INTERVAL:P3D
CALSCALE:GREGORIAN
BEGIN:VEVENT
DTSTART:20180202T230000Z
DTEND:20180203T030000Z
X-MICROSOFT-CDO-ALLDAYEVENT:FALSE
SUMMARY:Habitat for Humanity's Game Night Gala 2018
DESCRIPTION:Join us for Habitat's Game Night Gala Super Build on Super Bowl weekend. We hope to raise $70\,000 in one evening while eating and playing games. Plan a Date Night...celebrate Groundhog's Day... or surprise that special someone with an early Valentine's Day gift! Wear your favorite sports team shirt and join us on Friday\, February 2\, 2018. The fun begins promptly at 6 and runs until 10:00 PM\, the Early Bird ticket price is $50 per person. January 1\, the price increases to $65/person. Bid on amazing auction items including a one week stay at a 4 bedroom home near Phoenix\, Arizona\, a week long stay in a beach front condo in Ft. Myers Beach\, Florida\, a sailboat cruise on Lake Michigan\, a flat screen TV\, an autographed picture of Lou Holtz\, and much more! All funds raised will go toward the construction of an affordable home built with Belinda and her family\, in early 2018.
X-ALT-DESC;FMTTYPE=text/html:Join us for Habitat&rsquo\;s Game Night Gala Super Build on Super Bowl weekend. We hope to raise $70\,000 in one evening while eating and playing games. Plan a Date Night...celebrate Groundhog&#39\;s Day... or surprise that special someone with an early Valentine&#39\;s Day gift! Wear your favorite sports team shirt and join us on Friday\, February 2\, 2018. The fun begins promptly at 6 and runs until 10:00 PM\, the Early Bird ticket price is $50 per person. January 1\, the price increases to $65/person. Bid on amazing auction items including a one week stay at a 4 bedroom home near Phoenix\, Arizona\, a week long stay in a beach front condo in Ft. Myers Beach\, Florida\, a sailboat cruise on Lake Michigan\, a flat screen TV\, an autographed picture of Lou Holtz\, and much more! All funds raised will go toward the construction of an affordable home built with Belinda and her family\, in early 2018.
LOCATION:Elcona Country Club 56784 Co Rd 21 Bristol\, IN 46507
UID:e.689.17636
SEQUENCE:3
DTSTAMP:20260424T201654Z
URL:https://business.goshen.org/events/details/habitat-for-humanity-s-game-night-gala-2018-17636
END:VEVENT

END:VCALENDAR
