BEGIN:VCALENDAR
VERSION:2.0
PRODID:-//ChamberMaster//Event Calendar 2.0//EN
METHOD:PUBLISH
X-PUBLISHED-TTL:P3D
REFRESH-INTERVAL:P3D
CALSCALE:GREGORIAN
BEGIN:VEVENT
DTSTART:20171106T220000Z
DTEND:20171107T000000Z
X-MICROSOFT-CDO-ALLDAYEVENT:FALSE
SUMMARY:Habitat for Humanity of Elkhart County Open House
DESCRIPTION:Climb Aboard the Habitat Express!\n\n\n\nYou are invited to the Habitat ReStore to meet our new Executive Director\, learn about upcoming projects and events\, and tour our ReStore all while enjoying hors d' oeuvres.\n\n\n\n?Please RSVP by Friday\, October 27 to edna@habitatec.com or by calling her at 574-533-6109.
X-ALT-DESC;FMTTYPE=text/html:Climb Aboard the Habitat Express!<br />\n<br />\nYou are invited to the Habitat ReStore to meet our new Executive Director\, learn about upcoming projects and events\, and tour our ReStore all while enjoying hors d&#39\; oeuvres.<br />\n<br />\n?Please RSVP by Friday\, October 27 to edna@habitatec.com or by calling her at 574-533-6109.
LOCATION:Habitat ReStore 2910 Elkhart Road ?Goshen\, IN 46526
UID:e.689.17454
SEQUENCE:3
DTSTAMP:20260424T231547Z
URL:https://business.goshen.org/events/details/habitat-for-humanity-of-elkhart-county-open-house-17454
END:VEVENT

END:VCALENDAR
