BEGIN:VCALENDAR
VERSION:2.0
PRODID:-//ChamberMaster//Event Calendar 2.0//EN
METHOD:PUBLISH
X-PUBLISHED-TTL:P3D
REFRESH-INTERVAL:P3D
CALSCALE:GREGORIAN
BEGIN:VEVENT
DTSTART:20181113T210000Z
DTEND:20181113T230000Z
X-MICROSOFT-CDO-ALLDAYEVENT:FALSE
SUMMARY:Habitat for Humanity Hosts Networking Event
DESCRIPTION:Looking for peer-to-peer connections? Save the date for Nov. 13 from 4-6 p.m. Habitat for Humanity welcomes Elkhart County leaders\, owners\, managers\, entrepreneurs at their ReStore\, 2910 Elkhart Road/US 33\, Goshen. Networking. Conversation. Refreshments and Prizes.
X-ALT-DESC;FMTTYPE=text/html:Looking for peer-to-peer connections? Save the date for Nov. 13 from 4-6 p.m. Habitat for Humanity welcomes Elkhart County leaders\, owners\, managers\, entrepreneurs at their ReStore\, 2910 Elkhart Road/US 33\, Goshen. Networking. Conversation. Refreshments and Prizes.
LOCATION:Habitat for Humanity ReStore\, 2910 Elkhart Road/US 33\, Goshen.
UID:e.689.18316
SEQUENCE:3
DTSTAMP:20260424T005525Z
URL:https://business.goshen.org/events/details/habitat-for-humanity-hosts-networking-event-18316
END:VEVENT

END:VCALENDAR
