BEGIN:VCALENDAR
VERSION:2.0
PRODID:-//ChamberMaster//Event Calendar 2.0//EN
METHOD:PUBLISH
X-PUBLISHED-TTL:P3D
REFRESH-INTERVAL:P3D
CALSCALE:GREGORIAN
BEGIN:VEVENT
DTSTART:20161125T110000Z
DTEND:20161126T020000Z
X-MICROSOFT-CDO-ALLDAYEVENT:FALSE
SUMMARY:Green Friday Festivities
DESCRIPTION:Mall doors open at 6a! The first 150 guests will receive Holiday Shopping Bags filled with Valuable Concord Mall Store Coupons! Concord Mall Gift Cards will be in RANDOM shopping bags! Ziynne\, Kid of Pop\, will perform from 11a-Noon.  LIVE with WFRN's\, Vincy\, from 11a-1p with another Shopping Bag Giveaway while supplies last.
X-ALT-DESC;FMTTYPE=text/html:Mall doors open at 6a! The first 150 guests will receive Holiday Shopping Bags filled with Valuable Concord Mall Store Coupons! Concord Mall Gift Cards will be in RANDOM shopping bags! Ziynne\, Kid of Pop\, will perform from 11a-Noon.&nbsp\; LIVE with WFRN&#39\;s\, Vincy\, from 11a-1p with another Shopping Bag Giveaway while supplies last.
LOCATION:Concord Mall 3701 S. Main Street Elkhart\, IN 46517 574-875-6502
UID:e.689.16287
SEQUENCE:3
DTSTAMP:20260425T190022Z
URL:https://business.goshen.org/events/details/green-friday-festivities-16287
END:VEVENT

END:VCALENDAR
