BEGIN:VCALENDAR
VERSION:2.0
PRODID:-//ChamberMaster//Event Calendar 2.0//EN
METHOD:PUBLISH
X-PUBLISHED-TTL:P3D
REFRESH-INTERVAL:P3D
CALSCALE:GREGORIAN
BEGIN:VEVENT
DTSTART:20190607T210000Z
DTEND:20190608T010000Z
X-MICROSOFT-CDO-ALLDAYEVENT:FALSE
SUMMARY:Green Day Summer Celebration
DESCRIPTION:Head to the Courthouse lawn to celebrate First Fridays' 12th birthday! We blast into summer with a free outdoor concert\, sidewalk chalk\, and a celebration of all things green. Local environmental initiatives will organize activities to promote their green initiatives. During Chalk the Walk\, kids of ALL ages are invited to share their artistic talent\, optimism\, and inspiration through the whimsical power of sidewalk chalk.
X-ALT-DESC;FMTTYPE=text/html:Head to the Courthouse lawn to celebrate First Fridays&rsquo\; 12th birthday! We blast into summer with a free outdoor concert\, sidewalk chalk\, and a celebration of all things green. Local environmental initiatives will organize activities to promote their green initiatives. During Chalk the Walk\, kids of ALL ages are invited to share their artistic talent\, optimism\, and inspiration through the whimsical power of sidewalk chalk.
LOCATION:Downtown Goshen
UID:e.689.19327
SEQUENCE:3
DTSTAMP:20260423T124745Z
URL:https://business.goshen.org/events/details/green-day-summer-celebration-19327
END:VEVENT

END:VCALENDAR
