BEGIN:VCALENDAR
VERSION:2.0
PRODID:-//ChamberMaster//Event Calendar 2.0//EN
METHOD:PUBLISH
X-PUBLISHED-TTL:P3D
REFRESH-INTERVAL:P3D
CALSCALE:GREGORIAN
BEGIN:VEVENT
DTSTART:20170512T230000Z
DTEND:20170513T010000Z
X-MICROSOFT-CDO-ALLDAYEVENT:FALSE
SUMMARY:GRAHAM SABER ft BRIAN COOK *FREE CONCERT*
DESCRIPTION:GRAHAM AS SEEN ON TOUR WITH THE NEWSBOYS\, RYAN STEVENSON\, THE AFTERS AND HAWK NELSON Come out and join us for an epic night of music! Since this is a free event tickets are not required\, however if you would like free tickets please contact Anita at anitapalmer525@yahoo.com. Share this event with friends and let's pack the house for Graham and Brian!
X-ALT-DESC;FMTTYPE=text/html:GRAHAM AS SEEN ON TOUR WITH THE NEWSBOYS\, RYAN STEVENSON\, THE AFTERS AND HAWK NELSON Come out and join us for an epic night of music! Since this is a free event tickets are not required\, however if you would like free tickets please contact Anita at anitapalmer525@yahoo.com. Share this event with friends and let&#39\;s pack the house for Graham and Brian!
LOCATION:Grace Community Church 20076 CR 36 Goshen\, IN 46526
UID:e.689.16778
SEQUENCE:3
DTSTAMP:20260425T104318Z
URL:https://business.goshen.org/events/details/graham-saber-ft-brian-cook-free-concert-16778
END:VEVENT

END:VCALENDAR
