BEGIN:VCALENDAR
VERSION:2.0
PRODID:-//ChamberMaster//Event Calendar 2.0//EN
METHOD:PUBLISH
X-PUBLISHED-TTL:P3D
REFRESH-INTERVAL:P3D
CALSCALE:GREGORIAN
BEGIN:VEVENT
DTSTART:20170807T220000Z
DTEND:20170808T000000Z
X-MICROSOFT-CDO-ALLDAYEVENT:FALSE
SUMMARY:Goshen Sharks Soccer League
DESCRIPTION:This is a recreational league that provides the area's young people the opportunity to learn and enjoy the sport of soccer. Our program emphasizes good health\, exercise and friendly competition. We promote the development of soccer skills\, an understanding of the game and the enjoyment that comes from playing the world's most popular sport soccer. Volunteer coaches are needed to assist in the success of this program\; please contact Frank at 534-2901. Practice: One weekday evening each week Games: Played on Saturdays\, times vary\, 9 am 2 pm Season: August 7 September 30 Location: Pringle Park Fee: $45 registration fee includes team t-shirt Register: Now through July 20 at the Goshen Parks Office Levels: Ages 4 5* | Ages 6 9* Note: All age groups are co-ed. *Enrollment per level must reach 25
X-ALT-DESC;FMTTYPE=text/html:This is a recreational league that provides the area&rsquo\;s young people the opportunity to learn and enjoy the sport of soccer. Our program emphasizes good health\, exercise and friendly competition. We promote the development of soccer skills\, an understanding of the game and the enjoyment that comes from playing the world&rsquo\;s most popular sport&mdash\;soccer. Volunteer coaches are needed to assist in the success of this program\; please contact Frank at 534-2901. Practice: One weekday evening each week Games: Played on Saturdays\, times vary\, 9 am&ndash\;2 pm Season: August 7&ndash\;September 30 Location: Pringle Park Fee: $45 registration fee includes team t-shirt Register: Now through July 20 at the Goshen Parks Office Levels: Ages 4&ndash\;5* | Ages 6&ndash\;9* Note: All age groups are co-ed. *Enrollment per level must reach 25
LOCATION:
UID:e.689.16653
SEQUENCE:3
DTSTAMP:20260425T035802Z
URL:https://business.goshen.org/events/details/goshen-sharks-soccer-league-16653
END:VEVENT

END:VCALENDAR
