BEGIN:VCALENDAR
VERSION:2.0
PRODID:-//ChamberMaster//Event Calendar 2.0//EN
METHOD:PUBLISH
X-PUBLISHED-TTL:P3D
REFRESH-INTERVAL:P3D
CALSCALE:GREGORIAN
BEGIN:VEVENT
DTSTART;VALUE=DATE:20210622
DTEND;VALUE=DATE:20210623
TRANSP:TRANSPARENT
X-MICROSOFT-CDO-ALLDAYEVENT:TRUE
SUMMARY:Goshen Health Room Rental - Bill Born
DESCRIPTION:Checking in to see if the Launchpad upstairs might be available on Tuesday\, June 22. I have a team of 20 wanting to meet and we don't have the space available here onsite. Let me know. If so\, send the paperwork along and I'll return it.\n\n \n\nThanks.\n\n \n\nBill\n\n \n\nBill Born\n\nColleague Development Specialist | Goshen Health\n\n574-364-2829\n\n574-364-2763 (fax)\n\n200 High Park Ave.\, Goshen\, IN 46526\n\nGoshenHealth.com
X-ALT-DESC;FMTTYPE=text/html:Checking in to see if the Launchpad upstairs might be available on Tuesday\, June 22. I have a team of 20 wanting to meet and we don&rsquo\;t have the space available here onsite. Let me know. If so\, send the paperwork along and I&rsquo\;ll return it.<br />\n&nbsp\;<br />\nThanks.<br />\n&nbsp\;<br />\nBill<br />\n&nbsp\;<br />\n<strong><span style="color:#2F5496\;"><span style="font-family:arial\,sans-serif\;">Bill Born</span></span></strong><br />\n<strong><span style="color:#1F497D\;"><span style="font-family:arial\,sans-serif\;"><span style="font-size:10.0pt\;">Colleague Development Specialist</span></span></span></strong><span style="color:#1F497D\;"><span style="font-family:arial\,sans-serif\;"><span style="font-size:10.0pt\;"> | <strong>Goshen Health</strong></span></span></span><br />\n<span style="font-family:arial\,sans-serif\;"><span style="font-size:10.0pt\;">574-364-2829</span></span><br />\n<span style="font-family:arial\,sans-serif\;"><span style="font-size:10.0pt\;">574-364-2763 (fax)</span></span><br />\n<span style="font-family:arial\,sans-serif\;"><span style="font-size:10.0pt\;">200 High Park Ave.\, Goshen\, IN 46526</span></span><br />\n<strong><span style="color:#2F5496\;"><span style="font-family:arial\,sans-serif\;"><span style="font-size:10.0pt\;">GoshenHealth.com</span></span></span></strong>
LOCATION:
UID:e.689.21955
SEQUENCE:3
DTSTAMP:20260421T201824Z
URL:https://business.goshen.org/events/details/goshen-health-room-rental-bill-born-21955
END:VEVENT

END:VCALENDAR
