BEGIN:VCALENDAR
VERSION:2.0
PRODID:-//ChamberMaster//Event Calendar 2.0//EN
METHOD:PUBLISH
X-PUBLISHED-TTL:P3D
REFRESH-INTERVAL:P3D
CALSCALE:GREGORIAN
BEGIN:VEVENT
DTSTART:20180120T150000Z
DTEND:20180120T213000Z
X-MICROSOFT-CDO-ALLDAYEVENT:FALSE
SUMMARY:Goshen Health offers safe sitter class
DESCRIPTION:Join Goshen Health on Saturday\, January 20\, from 10:00 a.m.   4:30 p.m. at Goshen Hospital for a safe sitter class. This class is designed to prepare students in grades six-eight to be safe when they are home alone\, watching younger siblings or babysitting.
X-ALT-DESC;FMTTYPE=text/html:Join Goshen Health on Saturday\, January 20\, from 10:00 a.m. &ndash\; 4:30 p.m. at Goshen Hospital for a safe sitter class. This class is designed to prepare students in grades six-eight to be safe when they are home alone\, watching younger siblings or babysitting.
LOCATION:Goshen Hospital Birch/Walnut Rooms 200 High Park Avenue Goshen\, IN 46526
UID:e.689.17626
SEQUENCE:3
DTSTAMP:20260424T201748Z
URL:https://business.goshen.org/events/details/goshen-health-offers-safe-sitter-class-17626
END:VEVENT

END:VCALENDAR
