BEGIN:VCALENDAR
VERSION:2.0
PRODID:-//ChamberMaster//Event Calendar 2.0//EN
METHOD:PUBLISH
X-PUBLISHED-TTL:P3D
REFRESH-INTERVAL:P3D
CALSCALE:GREGORIAN
BEGIN:VEVENT
DTSTART:20180124T153000Z
DTEND:20180124T170000Z
X-MICROSOFT-CDO-ALLDAYEVENT:FALSE
SUMMARY:Goshen Health offers proactive diabetes prevention
DESCRIPTION:Join Goshen Health for a free and informative Proactive Diabetes Prevention Class on Wednesday\, January 24\, from 10:30 a.m.   noon. The class covers risk factors\, nutrition\, weight loss and stress management.
X-ALT-DESC;FMTTYPE=text/html:Join Goshen Health for a free and informative Proactive Diabetes Prevention Class on Wednesday\, January 24\, from 10:30 a.m. &ndash\; noon. The class covers risk factors\, nutrition\, weight loss and stress management.
LOCATION:This class will be held in the wellness classroom located on the second floor of the Goshen Heart & Vascular Center at 1855 South Main Street in Goshen.
UID:e.689.17623
SEQUENCE:3
DTSTAMP:20260424T215323Z
URL:https://business.goshen.org/events/details/goshen-health-offers-proactive-diabetes-prevention-17623
END:VEVENT

END:VCALENDAR
