BEGIN:VCALENDAR
VERSION:2.0
PRODID:-//ChamberMaster//Event Calendar 2.0//EN
METHOD:PUBLISH
X-PUBLISHED-TTL:P3D
REFRESH-INTERVAL:P3D
CALSCALE:GREGORIAN
BEGIN:VEVENT
DTSTART:20180205T230000Z
DTEND:20180617T020000Z
X-MICROSOFT-CDO-ALLDAYEVENT:FALSE
SUMMARY:Goshen Health offers EMT classes
DESCRIPTION:EMT basic training classes begin Monday\, February 5\, and run through Saturday\, June 16\, 2018. This class meets once a week from 6:00 to 10:00 p.m. on the second floor of the Community Wellness\, High Park building located next to the Goshen Hospital at 1721 South Main Street in Goshen. This course will begin your education into emergency medical services. This includes CPR\, trauma\, and medical assessment. Required classwork for the EMT basic training is done online so internet access is required.
X-ALT-DESC;FMTTYPE=text/html:EMT basic training classes begin Monday\, February 5\, and run through Saturday\, June 16\, 2018. This class meets once a week from 6:00 to 10:00 p.m. on the second floor of the Community Wellness\, High Park building located next to the Goshen Hospital at 1721 South Main Street in Goshen. This course will begin your education into emergency medical services. This includes CPR\, trauma\, and medical assessment. Required classwork for the EMT basic training is done online so internet access is required.
LOCATION:Second floor of the Community Wellness\, High Park building located next to the Goshen Hospital at 1721 South Main Street in Goshen.
UID:e.689.17624
SEQUENCE:3
DTSTAMP:20260424T134323Z
URL:https://business.goshen.org/events/details/goshen-health-offers-emt-classes-17624
END:VEVENT

END:VCALENDAR
