BEGIN:VCALENDAR
VERSION:2.0
PRODID:-//ChamberMaster//Event Calendar 2.0//EN
METHOD:PUBLISH
X-PUBLISHED-TTL:P3D
REFRESH-INTERVAL:P3D
CALSCALE:GREGORIAN
BEGIN:VEVENT
DTSTART:20180110T110000Z
DTEND:20180110T210000Z
X-MICROSOFT-CDO-ALLDAYEVENT:FALSE
SUMMARY:Goshen Health offers a health screening day
DESCRIPTION:Schedule an appointment during our next Wellness Wednesday screening event on Wednesday\, January 10. This screening event is located on the second floor of the Community Wellness\, High Park building at 1721 South Main Street in Goshen\, next to Goshen Hospital. Health screenings can give you important information about your overall health. They can also identify an illness or serious health condition that may need medical care. Our healthcare professionals will answer your questions and can make simple recommendations for a healthier lifestyle based on your results. Unless noted otherwise\, the following health screenings at this event are free:   Blood pressure\, pulse and blood oxygen levels   Diabetes risk assessments   Bone density heel scans (women over 50 only)   Body mass index   Cholesterol ($20 fee) Screenings will be done by appointment only\, no walk-in screenings accepted.
X-ALT-DESC;FMTTYPE=text/html:Schedule an appointment during our next Wellness Wednesday screening event on Wednesday\, January 10. This screening event is located on the second floor of the Community Wellness\, High Park building at 1721 South Main Street in Goshen\, next to Goshen Hospital. Health screenings can give you important information about your overall health. They can also identify an illness or serious health condition that may need medical care. Our healthcare professionals will answer your questions and can make simple recommendations for a healthier lifestyle based on your results. Unless noted otherwise\, the following health screenings at this event are free: &bull\; Blood pressure\, pulse and blood oxygen levels &bull\; Diabetes risk assessments &bull\; Bone density heel scans (women over 50 only) &bull\; Body mass index &bull\; Cholesterol ($20 fee) Screenings will be done by appointment only\, no walk-in screenings accepted.
LOCATION:Second floor of the Community Wellness\, High Park building at 1721 South Main Street in Goshen\, next to Goshen Hospital
UID:e.689.17625
SEQUENCE:3
DTSTAMP:20260424T220036Z
URL:https://business.goshen.org/events/details/goshen-health-offers-a-health-screening-day-17625
END:VEVENT

END:VCALENDAR
