BEGIN:VCALENDAR
VERSION:2.0
PRODID:-//ChamberMaster//Event Calendar 2.0//EN
METHOD:PUBLISH
X-PUBLISHED-TTL:P3D
REFRESH-INTERVAL:P3D
CALSCALE:GREGORIAN
BEGIN:VEVENT
DTSTART:20170323T103000Z
DTEND:20170323T123000Z
X-MICROSOFT-CDO-ALLDAYEVENT:FALSE
SUMMARY:GOSHEN HEALTH COMMUNITY SCREENING DAY
DESCRIPTION:Do it for you. Do it for life. FREE SCREENINGS/ASSESSMENTS Balance and joint screening Blood pressure\, pulse and blood oxygen levels Body Mass Index Bone density heel scan Breast cancer risk assessment Carbon monoxide check Colon health risk appraisal Diabetes risk assessment Diabetic foot screening Fitness assessment Memory screening Skin cancer risk screening Sleep disorders risk assessment Voice analysis SCREENINGS WITH A NOMINAL FEE* Cholesterol screening (fasting)   $20 Echocardiogram screening   $25 Vascular screening   $50 *Must register and pre-pay by March 22 to guarantee appointment. To register\, please call (877) 566-4660 or visit GoshenHealth.com/Find-Events.
X-ALT-DESC;FMTTYPE=text/html:Do it for you. Do it for life. FREE SCREENINGS/ASSESSMENTS Balance and joint screening Blood pressure\, pulse and blood oxygen levels Body Mass Index Bone density heel scan Breast cancer risk assessment Carbon monoxide check Colon health risk appraisal Diabetes risk assessment Diabetic foot screening Fitness assessment Memory screening Skin cancer risk screening Sleep disorders risk assessment Voice analysis SCREENINGS WITH A NOMINAL FEE* Cholesterol screening (fasting) &ndash\; $20 Echocardiogram screening &ndash\; $25 Vascular screening &ndash\; $50 *Must register and pre-pay by March 22 to guarantee appointment. To register\, please call (877) 566-4660 or visit GoshenHealth.com/Find-Events.
LOCATION:Goshen Hospital\, Arbor Conference Center 200 High Park Ave.\, Goshen\, IN 46526
UID:e.689.16610
SEQUENCE:3
DTSTAMP:20260425T122624Z
URL:https://business.goshen.org/events/details/goshen-health-community-screening-day-16610
END:VEVENT

END:VCALENDAR
