BEGIN:VCALENDAR
VERSION:2.0
PRODID:-//ChamberMaster//Event Calendar 2.0//EN
METHOD:PUBLISH
X-PUBLISHED-TTL:P3D
REFRESH-INTERVAL:P3D
CALSCALE:GREGORIAN
BEGIN:VEVENT
DTSTART:20200207T220000Z
DTEND:20200208T020000Z
X-MICROSOFT-CDO-ALLDAYEVENT:FALSE
SUMMARY:Goshen First Fridays | Wine and Chocolate
DESCRIPTION:Wine and Chocolate Tour Enjoy a variety of wine and chocolate samples throughout downtown. Tickets available online or day-of (if not sold out). The evening's deliciousness begins at Blank Space (109 E. Lincoln Ave.) Wine Downtown There are many downtown member businesses that feature wines for enjoyment\, including Blank Space\, Common Spirits\, Constant Spring\, Elephant Bar\, Kelly Jae's\, and Venturi. Chocolate Downtown A variety of participating stores will have chocolate specials during the evening. Find a full list of specials online.
X-ALT-DESC;FMTTYPE=text/html:Wine and Chocolate Tour Enjoy a variety of wine and chocolate samples throughout downtown. Tickets available online or day-of (if not sold out). The evening&rsquo\;s deliciousness begins at Blank Space (109 E. Lincoln Ave.) Wine Downtown There are many downtown member businesses that feature wines for enjoyment\, including Blank Space\, Common Spirits\, Constant Spring\, Elephant Bar\, Kelly Jae&rsquo\;s\, and Venturi. Chocolate Downtown A variety of participating stores will have chocolate specials during the evening. Find a full list of specials online.
LOCATION:Downtown Goshen
UID:e.689.20644
SEQUENCE:3
DTSTAMP:20260422T224302Z
URL:https://business.goshen.org/events/details/goshen-first-fridays-wine-and-chocolate-20644
END:VEVENT

END:VCALENDAR
