BEGIN:VCALENDAR
VERSION:2.0
PRODID:-//ChamberMaster//Event Calendar 2.0//EN
METHOD:PUBLISH
X-PUBLISHED-TTL:P3D
REFRESH-INTERVAL:P3D
CALSCALE:GREGORIAN
BEGIN:VEVENT
DTSTART:20200306T220000Z
DTEND:20200307T050000Z
X-MICROSOFT-CDO-ALLDAYEVENT:FALSE
SUMMARY:Goshen First Fridays | Live and Local
DESCRIPTION:You don't have to travel far to experience exceptional talent. Live Music Local singers and songwriters wow guests with performances inside downtown entertainment venues. Demonstrations Participating stores also host a variety pack of live demonstrations. Grab a schedule and take a self-guided tour to learn something new and enjoy the out-of-this-world talent.
X-ALT-DESC;FMTTYPE=text/html:You don&rsquo\;t have to travel far to experience exceptional talent. Live Music Local singers and songwriters wow guests with performances inside downtown entertainment venues. Demonstrations Participating stores also host a variety pack of live demonstrations. Grab a schedule and take a self-guided tour to learn something new and enjoy the out-of-this-world talent.
LOCATION:Downtown Goshen
UID:e.689.20922
SEQUENCE:3
DTSTAMP:20260422T205135Z
URL:https://business.goshen.org/events/details/goshen-first-fridays-live-and-local-20922
END:VEVENT

END:VCALENDAR
