BEGIN:VCALENDAR
VERSION:2.0
PRODID:-//ChamberMaster//Event Calendar 2.0//EN
METHOD:PUBLISH
X-PUBLISHED-TTL:P3D
REFRESH-INTERVAL:P3D
CALSCALE:GREGORIAN
BEGIN:VEVENT
DTSTART:20160810T110000Z
DTEND:20160810T230000Z
X-MICROSOFT-CDO-ALLDAYEVENT:FALSE
SUMMARY:Golf and Tennis Outing
DESCRIPTION:Goshen Chamber\n\n2016 Golf and Tennis Outing\n\n\n\nCall the Chamber for registration\n\n\n\nThank you to our Major Sponsors\n\n\n\nIU Health Goshen Hospital\n\nKeystone RV Company\n\nRSM\n\nEBY Ford Lincoln\n\nGoshen News
X-ALT-DESC;FMTTYPE=text/html:<div style="text-align: center\;">\n<div style="text-align: center\;"><span style="font-size: 20px\;">&nbsp\;<strong>Goshen Chamber<br />\n2016 Golf and Tennis Outing</strong><br />\n<br />\nCall&nbsp\;the&nbsp\;Chamber for registration<br />\n<br />\n<strong><span style="font-size: 24px\;">Thank you to&nbsp\;our Major Sponsors</span><br />\n<br />\nIU Health Goshen Hospital<br />\nKeystone RV Company<br />\nRSM<br />\nEBY Ford Lincoln<br />\nGoshen News</strong></span><br />\n<br />\n&nbsp\;</div>\n</div>\n
LOCATION:Maplecrest Country Club 611 Hackett Road Goshen\, IN 46528 574-533-1925
UID:e.689.15188
SEQUENCE:3
DTSTAMP:20260425T233137Z
URL:https://business.goshen.org/events/details/golf-and-tennis-outing-08-10-2016-15188
END:VEVENT

END:VCALENDAR
