BEGIN:VCALENDAR
VERSION:2.0
PRODID:-//ChamberMaster//Event Calendar 2.0//EN
METHOD:PUBLISH
X-PUBLISHED-TTL:P3D
REFRESH-INTERVAL:P3D
CALSCALE:GREGORIAN
BEGIN:VEVENT
DTSTART:20161105T140000Z
DTEND:20161105T230000Z
X-MICROSOFT-CDO-ALLDAYEVENT:FALSE
SUMMARY:Gift Extravaganza
DESCRIPTION:Artisans\, Crafters\, Home based businesses and more will be on site for this one day show. Interested parties may register on the Events page at www.ShopConcordMall.com.
X-ALT-DESC;FMTTYPE=text/html:<div>Artisans\, Crafters\, Home based businesses and more will be on site for this one day show. Interested parties may register on the Events page at www.ShopConcordMall.com.&nbsp\;</div>\n
LOCATION:Concord Mall 3701 S. Main Street Elkhart\, IN 46517 574-875-6502
UID:e.689.16280
SEQUENCE:3
DTSTAMP:20260425T202214Z
URL:https://business.goshen.org/events/details/gift-extravaganza-16280
END:VEVENT

END:VCALENDAR
