BEGIN:VCALENDAR
VERSION:2.0
PRODID:-//ChamberMaster//Event Calendar 2.0//EN
METHOD:PUBLISH
X-PUBLISHED-TTL:P3D
REFRESH-INTERVAL:P3D
CALSCALE:GREGORIAN
BEGIN:VEVENT
DTSTART:20180714T120000Z
DTEND:20180714T160000Z
X-MICROSOFT-CDO-ALLDAYEVENT:FALSE
SUMMARY:Get UP and Goshen
DESCRIPTION:FREE event Be a super hero   have super health! Visit the Get UP and GOshen tent at Kerry's Kids 14th Annual Kids' and Teens' Triathlon to learn how to have super health! Collect various "super powers" by exploring fun\, interactive learning stations on nutrition\, fitness\, mental health\, wellness and safety. Accumulate enough super powers to earn your very own super hero cape and mask! Fun for the whole family! We will have games\, an obstacle course\, giveaways and each family will get $10 Goshen Health Bucks to use at the Goshen Farmers Market. Wear a super hero costume to be entered into a drawing to win fun prizes. To register or for more information please call (877) 566-4660 or visit GetUPandGOshen.com Parking At Goshen Middle School\, Plymouth Avenue will be closed between the school and the park Registration Day of event from 8:00 a.m.   11:00 a.m. at the Goshen Health tent
X-ALT-DESC;FMTTYPE=text/html:FREE event Be a super hero &ndash\; have super health! Visit the Get UP and GOshen tent at Kerry&rsquo\;s Kids 14th Annual Kids&rsquo\; and Teens&rsquo\; Triathlon to learn how to have super health! Collect various &ldquo\;super powers&rdquo\; by exploring fun\, interactive learning stations on nutrition\, fitness\, mental health\, wellness and safety. Accumulate enough super powers to earn your very own super hero cape and mask! Fun for the whole family! We will have games\, an obstacle course\, giveaways and each family will get $10 Goshen Health Bucks to use at the Goshen Farmers Market. Wear a super hero costume to be entered into a drawing to win fun prizes. To register or for more information please call (877) 566-4660 or visit GetUPandGOshen.com Parking At Goshen Middle School\, Plymouth Avenue will be closed between the school and the park Registration Day of event from 8:00 a.m. &ndash\; 11:00 a.m. at the Goshen Health tent
LOCATION:Location Shanklin Park\, 411 West Plymouth Ave.\, Goshen
UID:e.689.17819
SEQUENCE:3
DTSTAMP:20260424T113918Z
URL:https://business.goshen.org/events/details/get-up-and-goshen-07-14-2018-17819
END:VEVENT

END:VCALENDAR
