BEGIN:VCALENDAR
VERSION:2.0
PRODID:-//ChamberMaster//Event Calendar 2.0//EN
METHOD:PUBLISH
X-PUBLISHED-TTL:P3D
REFRESH-INTERVAL:P3D
CALSCALE:GREGORIAN
BEGIN:VEVENT
DTSTART:20241003T210000Z
DTEND:20241003T230000Z
X-MICROSOFT-CDO-ALLDAYEVENT:FALSE
SUMMARY:GEL - Family Fall Festival
DESCRIPTION:2nd Annual\n\nFall Family Festival\n\n\n\nHayrides - Food - Music - Drinks\n\nFamily Friendly Event
X-ALT-DESC;FMTTYPE=text/html:2nd Annual<br />\nFall Family Festival<br />\n<br />\nHayrides - Food - Music - Drinks<br />\nFamily Friendly Event
LOCATION:Kercher's Sunrise Orchards 19498 County Road 38 Goshen\, IN 46526
UID:e.689.25449
SEQUENCE:3
DTSTAMP:20260426T022036Z
URL:https://business.goshen.org/events/details/gel-family-fall-festival-25449
END:VEVENT

END:VCALENDAR
