BEGIN:VCALENDAR
VERSION:2.0
PRODID:-//ChamberMaster//Event Calendar 2.0//EN
METHOD:PUBLISH
X-PUBLISHED-TTL:P3D
REFRESH-INTERVAL:P3D
CALSCALE:GREGORIAN
BEGIN:VEVENT
DTSTART:20181015T220000Z
DTEND:20181015T233000Z
X-MICROSOFT-CDO-ALLDAYEVENT:FALSE
SUMMARY:Frightening feet
DESCRIPTION:Overcoming challenges of foot care for people with diabetes. We will offer foot checks and teach how to give feet that extra TLC so they aren't frightening! FREE class for adults with diabetes. No registration is required. For more information\, call (574) 364-2746.
X-ALT-DESC;FMTTYPE=text/html:Overcoming challenges of foot care for people with diabetes. We will offer foot checks and teach how to give feet that extra TLC so they aren&#39\;t frightening! FREE class for adults with diabetes. No registration is required. For more information\, call (574) 364-2746.
LOCATION:Heart & Vascular Wellness Classroom\, 2nd floor 1855 S. Main Street\, Suite C\, Goshen\, IN 46526
UID:e.689.17897
SEQUENCE:3
DTSTAMP:20260424T044933Z
URL:https://business.goshen.org/events/details/frightening-feet-17897
END:VEVENT

END:VCALENDAR
