BEGIN:VCALENDAR
VERSION:2.0
PRODID:-//ChamberMaster//Event Calendar 2.0//EN
METHOD:PUBLISH
X-PUBLISHED-TTL:P3D
REFRESH-INTERVAL:P3D
CALSCALE:GREGORIAN
BEGIN:VEVENT
DTSTART:20171202T180000Z
DTEND:20171203T220000Z
X-MICROSOFT-CDO-ALLDAYEVENT:FALSE
SUMMARY:Fresh Paint Presents Christmas Extravaganza
DESCRIPTION:Christmas carnival with puppets\, music\, games and refreshments! Free to the public.  Non-perishable food items will be collected as a donation.
X-ALT-DESC;FMTTYPE=text/html:Christmas carnival with puppets\, music\, games and refreshments! Free to the public.&nbsp\; Non-perishable food items will be collected as a donation.
LOCATION:Concord Mall 3701 S.Main Street Elkhart\, IN 46517 574-875-6502
UID:e.689.17606
SEQUENCE:3
DTSTAMP:20260424T215611Z
URL:https://business.goshen.org/events/details/fresh-paint-presents-christmas-extravaganza-17606
END:VEVENT

END:VCALENDAR
