BEGIN:VCALENDAR
VERSION:2.0
PRODID:-//ChamberMaster//Event Calendar 2.0//EN
METHOD:PUBLISH
X-PUBLISHED-TTL:P3D
REFRESH-INTERVAL:P3D
CALSCALE:GREGORIAN
BEGIN:VEVENT
DTSTART:20180518T160000Z
DTEND:20180518T173000Z
X-MICROSOFT-CDO-ALLDAYEVENT:FALSE
SUMMARY:Free Training: Community Recognizing and Reporting Child Abuse & Neglect Luncheon
DESCRIPTION:Free Training:\n\n						Community Recognizing and Reporting \n\n						Child Abuse & Neglect Luncheon\n					\n				\n			\n			\n		\n	\n\n\n\n	\n		\n			\n			\n				\n					\n						\n						\n							\n								\n									\n									When\n\n									May 18\, 2018\n\n									12:00 - 1:30 PM\n									 \n\n									Add to Calendar\n\n									  \n									 \n\n									Where\n\n									CAPS- Joy Rose Center\n\n									1000 W. Hively Ave.\n\n									Elkhart\, IN 46517\n\n									 \n									 Driving Directions\n								\n							\n						\n						\n					\n				\n			\n			\n			\n			\n				\n					\n						\n						\n							\n								\n									\n									OVERVIEW\n\n									 \n\n									CAPS - Child And Parent Services is offering free training for both professionals and volunteers who work with children. A complimentary lunch will be served and seating is limited to 50 participants.\n\n									 \n\n									Attendees of this training learn how to recognize signs of abuse and neglect and the details on how to report it. Furthermore\, the training will explore the impact trauma from abuse and neglect has on the health of our community\, both physical and fiscal. \n\n									 \n\n									PRESENTERS\n\n									 \n\n									Justin Allen is the director of the Elkhart County CASA and GAL Programs at CAPS. He has been a member of the CAPS staff for eight years and was a CASA volunteer before joining the CAPS team. He is passionate about advocating for children in the court systems and ensuring that children in Elkhart County have an opportunity to live a life free of abuse and neglect so that every child can live up to their full potential.\n\n									 \n\n									Julie Reed is the director of the Child and Family Advocacy Center at CAPS. She began at the center five years ago as a forensic interviewer before moving into her position as the director. Julie has a degree from Saint Mary's College in social work. While attending school\, she volunteered at CAPS and fell in love with the environment of the agency. Julie has a passion for working with children and giving otherwise voiceless victims a chance to tell their story.
X-ALT-DESC;FMTTYPE=text/html:<table bgcolor="#FFFFFF" border="0" cellpadding="0" cellspacing="0" class="MainBodyBG" id="evm-header-container" style="background-color: rgb(255\, 255\, 255)\;" width="100%">\n	<tbody>\n		<tr>\n			<td align="center" colspan="1" rowspan="1" width="100%">\n			<table bgcolor="#FFFFFF" border="0" cellpadding="5" cellspacing="0" class="BlockMargin EventTitleBG" id="content_LETTER.BLOCK3" style="margin-bottom: 5px\;" width="100%">\n				<tbody>\n					<tr>\n						<td align="center" class="CompanyName" colspan="1" id="evm-invite-event-title" rowspan="1" style="color: rgb(51\, 51\, 51)\; font-size: 18pt\; font-family: Arial\, Helvetica\, sans-serif\;">Free Training:<br />\n						Community Recognizing and Reporting&nbsp\;<br />\n						Child Abuse &amp\; Neglect Luncheon</td>\n					</tr>\n				</tbody>\n			</table>\n			</td>\n		</tr>\n	</tbody>\n</table>\n\n<table bgcolor="#FFFFFF" border="0" cellpadding="0" cellspacing="0" class="MainBodyBG" style="background-color: rgb(255\, 255\, 255)\;" width="100%">\n	<tbody>\n		<tr>\n			<td align="left" class="LeftColWidth" colspan="1" rowspan="1" style="width: 205px\;" valign="top" width="205">\n			<table border="0" cellpadding="0" cellspacing="0" width="205">\n				<tbody>\n					<tr>\n						<td align="left" class="LeftColPad" colspan="1" rowspan="1" style="padding: 0px\;" valign="top" width="205">\n						<table bgcolor="#FFFFFF" border="0" cellpadding="5" cellspacing="0" class="EventInfoBG BlockMargin" id="content_LETTER.BLOCK4" style="margin-bottom: 5px\;" width="100%">\n							<tbody>\n								<tr>\n									<td align="left" class="EventInformationText" colspan="1" id="evm-lcol-content" rowspan="1" style="color: rgb(51\, 51\, 51)\; font-size: 10pt\; font-family: Arial\, Helvetica\, sans-serif\;">\n									<div><span class="EventInfoTitle" id="evm-lcol-title-when" style="font-size: 12pt\;"><b>When</b></span><br />\n									May 18\, 2018</div>\n\n									<div>12:00 - 1:30 PM</div>\n									&nbsp\;\n\n									<div><a alt="http://events.r20.constantcontact.com/register/addtocalendar?oeidk=a07efcsfx3kb0ad9d97" class="cc-calendar" href="http://events.r20.constantcontact.com/register/addtocalendar?oeidk=a07efcsfx3kb0ad9d97" id="lnkAddToCalendar" shape="rect" style="color: rgb(51\, 51\, 51)\; font-size: 10pt\;" target="_blank" title="Add to Calendar">Add to Calendar</a></div>\n\n									<div>&nbsp\;&nbsp\;</div>\n									&nbsp\;\n\n									<div class="EventInfoTitle" id="evm-lcol-title-where" style="font-size: 12pt\;"><b>Where</b></div>\n\n									<div><strong>CAPS- Joy Rose Center</strong><br />\n									1000&nbsp\;W. Hively Ave.</div>\n\n									<div>Elkhart\, IN 46517<br />\n									&nbsp\;</div>\n									&nbsp\;<a alt="https://www.google.com/maps?daddr=1000+W.+Hively+Ave.\,+Elkhart\,+IN\,+46517\,+US" href="https://www.google.com/maps?daddr=1000+W.+Hively+Ave.\,+Elkhart\,+IN\,+46517\,+US" linktype="1" shape="rect" style="color: rgb(51\, 51\, 51)\;" target="_blank" track="on">Driving Directions</a></td>\n								</tr>\n							</tbody>\n						</table>\n						</td>\n					</tr>\n				</tbody>\n			</table>\n			</td>\n			<td align="left" class="RightColWidth" colspan="1" rowspan="1" style="width: 385px\;" valign="top" width="385">\n			<table border="0" cellpadding="0" cellspacing="0" class="RightColWidth" style="width: 385px\;" width="385">\n				<tbody>\n					<tr>\n						<td align="left" class="LeftColPad" colspan="1" rowspan="1" style="padding: 0px\;" valign="top" width="100%">\n						<table border="0" cellpadding="5" cellspacing="0" class="BlockMargin" id="content_LETTER.BLOCK5" style="margin-bottom: 5px\;" width="100%">\n							<tbody>\n								<tr>\n									<td align="left" class="MainText" colspan="1" id="evm-content-maintext" rowspan="1" style="color: rgb(51\, 51\, 51)\; font-size: 10pt\; font-family: Arial\, Helvetica\, sans-serif\;">\n									<div style="font-size: 13.3333px\;"><strong>OVERVIEW</strong></div>\n\n									<div style="font-size: 13.3333px\;">&nbsp\;</div>\n\n									<div style="font-size: 13.3333px\;"><strong>CAPS - Child And Parent Services is offering free training for both professionals and volunteers who work with children. A complimentary lunch will be served and seating is limited to 50 participants.</strong></div>\n\n									<div style="font-size: 13.3333px\;">&nbsp\;</div>\n\n									<div style="font-size: 13.3333px\;"><strong>Attendees of this training learn how to recognize signs of abuse and neglect and the details on how to report it. Furthermore\, the training will explore the impact trauma from abuse and neglect has on the health of our community\, both physical and fiscal.&nbsp\;</strong></div>\n\n									<div style="font-size: 13.3333px\;">&nbsp\;</div>\n\n									<div style="font-size: 13.3333px\;"><strong>PRESENTERS</strong></div>\n\n									<div style="font-size: 13.3333px\;">&nbsp\;</div>\n\n									<div style="font-size: 13.3333px\;"><strong>Justin Allen</strong>&nbsp\;is the director of the Elkhart County CASA and GAL Programs at CAPS. He has been a member of the CAPS staff for eight years and was a CASA volunteer before joining the CAPS team. He is passionate about advocating for children in the court systems and ensuring that children in Elkhart County have an opportunity to live a life free of abuse and neglect so that every child can live up to their full potential.</div>\n\n									<div style="font-size: 13.3333px\;">&nbsp\;</div>\n\n									<div style="font-size: 13.3333px\;"><strong>Julie Reed</strong>&nbsp\;is the director of the Child and Family Advocacy Center at CAPS. She began at the center&nbsp\;five years ago&nbsp\;as a forensic interviewer before moving into her position as the director. Julie has a degree from Saint Mary&#39\;s College in social work. While attending school\, she volunteered at CAPS and fell in love with the environment of the agency. Julie has a passion for working with children and giving otherwise voiceless victims a chance to tell their story.</div>\n\n									<div>&nbsp\;</div>\n									</td>\n								</tr>\n							</tbody>\n						</table>\n						</td>\n					</tr>\n				</tbody>\n			</table>\n			</td>\n		</tr>\n	</tbody>\n</table>\n
LOCATION:Joy Rose Center 1000 W. Hively Ave. Elkhart\, IN 46517
UID:e.689.17821
SEQUENCE:3
DTSTAMP:20260424T134311Z
URL:https://business.goshen.org/events/details/free-training-community-recognizing-and-reporting-child-abuse-neglect-luncheon-17821
END:VEVENT

END:VCALENDAR
