BEGIN:VCALENDAR
VERSION:2.0
PRODID:-//ChamberMaster//Event Calendar 2.0//EN
METHOD:PUBLISH
X-PUBLISHED-TTL:P3D
REFRESH-INTERVAL:P3D
CALSCALE:GREGORIAN
BEGIN:VEVENT
DTSTART:20160602T230000Z
DTEND:20160603T010000Z
X-MICROSOFT-CDO-ALLDAYEVENT:FALSE
SUMMARY:Free Outdoor Movie In the Park
DESCRIPTION:Join us on Thursdays at 7 pm for a fantastic\, family night out during our summer outdoor movie series at Shanklin Park. Bring your lawn chairs or blankets and settle in to watch these free movies on the ?monster? screen. Concession stand available for your picnic dinner or snacks (cash only). June 2: The Peanuts Movie (G) June 16: Zootopia (PG) June 30: Hotel Transylvania 2 (PG) July 14: The Good Dinosaur (PG
X-ALT-DESC;FMTTYPE=text/html:Join us on Thursdays at 7 pm for a fantastic\, family night out during our summer outdoor movie series at Shanklin Park. Bring your lawn chairs or blankets and settle in to watch these free movies on the ?monster? screen. Concession stand available for your picnic dinner or snacks (cash only). June 2: The Peanuts Movie (G) June 16: Zootopia (PG) June 30: Hotel Transylvania 2 (PG) July 14: The Good Dinosaur (PG
LOCATION:Shanklin Park
UID:e.689.15892
SEQUENCE:3
DTSTAMP:20260426T023223Z
URL:https://business.goshen.org/events/details/free-outdoor-movie-in-the-park-06-02-2016-15892
END:VEVENT

END:VCALENDAR
