BEGIN:VCALENDAR
VERSION:2.0
PRODID:-//ChamberMaster//Event Calendar 2.0//EN
METHOD:PUBLISH
X-PUBLISHED-TTL:P3D
REFRESH-INTERVAL:P3D
CALSCALE:GREGORIAN
BEGIN:VEVENT
DTSTART:20171027T183000Z
DTEND:20171028T153000Z
X-MICROSOFT-CDO-ALLDAYEVENT:FALSE
SUMMARY:Free Mums!
DESCRIPTION:FREE MUMS!\n\n\n\nStop inside the branch and see an Associate to receive your coupon for one free mum.*
X-ALT-DESC;FMTTYPE=text/html:<span style="font-size:14px"><span style="color:#000080"><strong>FREE MUMS!<br />\n<br />\nStop inside the branch and see an Associate to receive your coupon for one free mum.*</strong></span></span>
LOCATION:1716 Elkhart Road Goshen\, IN 46526 574-533-1333
UID:e.689.17455
SEQUENCE:3
DTSTAMP:20260425T004636Z
URL:https://business.goshen.org/events/details/free-mums-17455
END:VEVENT

END:VCALENDAR
