BEGIN:VCALENDAR
VERSION:2.0
PRODID:-//ChamberMaster//Event Calendar 2.0//EN
METHOD:PUBLISH
X-PUBLISHED-TTL:P3D
REFRESH-INTERVAL:P3D
CALSCALE:GREGORIAN
BEGIN:VEVENT
DTSTART:20170812T140000Z
DTEND:20170812T160000Z
X-MICROSOFT-CDO-ALLDAYEVENT:FALSE
SUMMARY:Free History Bike Tour
DESCRIPTION:This is a chance to get to know some of the City parks which you may not know even exist. Some Park and City history will be included\, often through the lens of Goshen's urban forest. We won't ride hard\, but we will ride steadily. Some of the route will take us onto streets\, so bikers should be experienced with vehicle traffic. Saturday\, August 12\, from 10 am 12 pm: Join Aaron for a two hour bike tour of Goshen's City Parks on the east and south sides of town. Participants will meet at Rieth Interpretive Center\, 410 West Plymouth Avenue. The tour will begin at Shanklin Park and head south along the millrace canal before turning east\, then north\, and finally south\, ending at the millrace canal tailgates and the Goshen Brewing Company. Park stops may include Burdick Park\, Shoup-Parsons Park\, Rieth Park\, Fidler Pond Park\, Abshire Park\, Church Park\, and Walnut Park.
X-ALT-DESC;FMTTYPE=text/html:This is a chance to get to know some of the City parks which you may not know even exist. Some Park and City history will be included\, often through the lens of Goshen&rsquo\;s urban forest. We won&rsquo\;t ride hard\, but we will ride steadily. Some of the route will take us onto streets\, so bikers should be experienced with vehicle traffic. Saturday\, August 12\, from 10 am&ndash\;12 pm: Join Aaron for a two hour bike tour of Goshen&rsquo\;s City Parks on the east and south sides of town. Participants will meet at Rieth Interpretive Center\, 410 West Plymouth Avenue. The tour will begin at Shanklin Park and head south along the millrace canal before turning east\, then north\, and finally south\, ending at the millrace canal tailgates and the Goshen Brewing Company. Park stops may include Burdick Park\, Shoup-Parsons Park\, Rieth Park\, Fidler Pond Park\, Abshire Park\, Church Park\, and Walnut Park.
LOCATION:Starts at the Rieth Interpretive Center 410 W. Plymouth Avenue in Goshen
UID:e.689.16625
SEQUENCE:3
DTSTAMP:20260425T040209Z
URL:https://business.goshen.org/events/details/free-history-bike-tour-08-12-2017-16625
END:VEVENT

END:VCALENDAR
