BEGIN:VCALENDAR
VERSION:2.0
PRODID:-//ChamberMaster//Event Calendar 2.0//EN
METHOD:PUBLISH
X-PUBLISHED-TTL:P3D
REFRESH-INTERVAL:P3D
CALSCALE:GREGORIAN
BEGIN:VEVENT
DTSTART:20161118T220000Z
DTEND:20161119T010000Z
X-MICROSOFT-CDO-ALLDAYEVENT:FALSE
SUMMARY:FREE HEALTH SCREENINGS AND ASSESSMENTS
DESCRIPTION:DO IT FOR YOU.DO IT FOR LIFE. Join Goshen Health at the Middlebury Township Fire Department chili dinner and take part in our free health screenings\, games\, prizes and more!   Blood pressure\, pulse and blood oxygen levels   Body mass index   Bone density heel scan   Children's height and weight   Diabetes risk assessment
X-ALT-DESC;FMTTYPE=text/html:DO IT FOR YOU.DO IT FOR LIFE. Join Goshen Health at the Middlebury Township Fire Department chili dinner and take part in our free health screenings\, games\, prizes and more! &bull\; Blood pressure\, pulse and blood oxygen levels &bull\; Body mass index &bull\; Bone density heel scan &bull\; Children&rsquo\;s height and weight &bull\; Diabetes risk assessment
LOCATION:Middlebury Township Fire Department 117 North Main Street Middlebury\, IN 46540
UID:e.689.16265
SEQUENCE:3
DTSTAMP:20260425T190432Z
URL:https://business.goshen.org/events/details/free-health-screenings-and-assessments-16265
END:VEVENT

END:VCALENDAR
